BEGIN:VCALENDAR
VERSION:2.0
PRODID:-//Fanny Salsa Dance - ECPv6.15.20//NONSGML v1.0//EN
CALSCALE:GREGORIAN
METHOD:PUBLISH
X-WR-CALNAME:Fanny Salsa Dance
X-ORIGINAL-URL:https://buffalosalsadance.com
X-WR-CALDESC:Events for Fanny Salsa Dance
REFRESH-INTERVAL;VALUE=DURATION:PT1H
X-Robots-Tag:noindex
X-PUBLISHED-TTL:PT1H
BEGIN:VTIMEZONE
TZID:UTC
BEGIN:STANDARD
TZOFFSETFROM:+0000
TZOFFSETTO:+0000
TZNAME:UTC
DTSTART:20210101T000000
END:STANDARD
END:VTIMEZONE
BEGIN:VEVENT
DTSTART;TZID=UTC:20251217T190000
DTEND;TZID=UTC:20251217T223000
DTSTAMP:20260423T112044
CREATED:20250314T151853Z
LAST-MODIFIED:20251210T165259Z
UID:11339-1765998000-1766010600@buffalosalsadance.com
SUMMARY:Salsa Night Christmas Party
DESCRIPTION:Wear your holiday attire. \nMore details TBA \nlocation: Pucho Olivencia Center \n  \n 
URL:https://buffalosalsadance.com/event/salsa-party/
END:VEVENT
BEGIN:VEVENT
DTSTART;TZID=UTC:20251029T190000
DTEND;TZID=UTC:20251029T223000
DTSTAMP:20260423T112044
CREATED:20241015T061033Z
LAST-MODIFIED:20251020T231405Z
UID:11037-1761764400-1761777000@buffalosalsadance.com
SUMMARY:Salsa Night Halloween Edition
DESCRIPTION:Kizomba lesson by Tin Man & Breeze \nmusic by Dj CPerfect \n$10 admission \ncostume contest \nbring a snack to share
URL:https://buffalosalsadance.com/event/salsa-night-halloween-edition-2/
END:VEVENT
BEGIN:VEVENT
DTSTART;TZID=UTC:20251005T143000
DTEND;TZID=UTC:20251005T153000
DTSTAMP:20260423T112044
CREATED:20221228T214526Z
LAST-MODIFIED:20250927T175847Z
UID:9878-1759674600-1759678200@buffalosalsadance.com
SUMMARY:Rhythms of the world
DESCRIPTION:Salsa class at 2:30 pm \nWorkshops:Salsa\, hip hop\, bhangra dance\, andd more \nMore info: \nhttps://devibollywooddance.com/ \n 
URL:https://buffalosalsadance.com/event/afro-latin-festival/
END:VEVENT
BEGIN:VEVENT
DTSTART;TZID=UTC:20250919T193000
DTEND;TZID=UTC:20250919T203000
DTSTAMP:20260423T112044
CREATED:20230508T153549Z
LAST-MODIFIED:20250914T221349Z
UID:10273-1758310200-1758313800@buffalosalsadance.com
SUMMARY:Fitness on the field
DESCRIPTION:Salsa lesson on the field \nLocation: Highmark stadium\nregistration link: www.buffalobills.com/fitnessonthefield
URL:https://buffalosalsadance.com/event/salsa-the-boardwalk-canalside/
LOCATION:highmark stadium
END:VEVENT
BEGIN:VEVENT
DTSTART;TZID=UTC:20250919T190000
DTEND;TZID=UTC:20250920T000000
DTSTAMP:20260423T112044
CREATED:20240911T162106Z
LAST-MODIFIED:20250901T172217Z
UID:10989-1758308400-1758326400@buffalosalsadance.com
SUMMARY:SALSA FOR A CURE little Red dress
DESCRIPTION:Dance for a good cause! \namateur dance competition \nsocial dancing\, performances \n$30 in advance  ($45 at the door) \n50/50 \nall the proceeds go to Roswell Cancer institute \nhttps://www.facebook.com/events/4016757945255475
URL:https://buffalosalsadance.com/event/salsa-for-a-cure-red-affair/
END:VEVENT
BEGIN:VEVENT
DTSTART;TZID=UTC:20250912T200000
DTEND;TZID=UTC:20250913T010000
DTSTAMP:20260423T112044
CREATED:20230731T154807Z
LAST-MODIFIED:20250903T004339Z
UID:10374-1757707200-1757725200@buffalosalsadance.com
SUMMARY:Salsa Night @ Andale Cantina
DESCRIPTION:Lesson & social dancing \nDJ Prestige \nFree Lesson at 8pm \nSalsa and more!! \n6850 Main st. Williamsville \, NY \n 
URL:https://buffalosalsadance.com/event/salsa-night-andale-cantina-2/
END:VEVENT
BEGIN:VEVENT
DTSTART;TZID=UTC:20250510T140000
DTEND;TZID=UTC:20250511T020000
DTSTAMP:20260423T112044
CREATED:20250428T020335Z
LAST-MODIFIED:20250430T012443Z
UID:11404-1746885600-1746928800@buffalosalsadance.com
SUMMARY:Fráylin Olivares Returns! Salsa World Champion - Salsa & Bachata Workshops\, Social Dancing & Performance
DESCRIPTION:LIMITED SPOT AVAILABLE \nEARLY  BIRD ENDS ON Thursday May 1st \n \nTo register\, make the payment and send us an email to confirm your registration to: fannysalsadance@gmail.com \nClass schedule:\n2 pm Dominican bachata footwork and partnerwork\n3 pm salsa partnerwork\n4 pm salsa footwork \nPrices:\nSingle Class: $27\nAll 3 Classes: $75 (Early Bird $60)\nFull Pass (All classes + social): $80 (Early Bird $65)\nSocial Only: $15 (Early Bird $10) \nPayment:\nZelle: fanny_olasem@hotmail.com\nVenmo: @Fanny-Olaya \nLocation\nClasses: Devi performing arts\n3200 Elmwood Ave. Buffalo\nSocial: Andale Cantina\n6850 Main St\nWilliamsville\, NY 14221\n10pm-2am\, 21+
URL:https://buffalosalsadance.com/event/salsa-bachata-workshops-social-dancing/
END:VEVENT
BEGIN:VEVENT
DTSTART;TZID=UTC:20250328T210000
DTEND;TZID=UTC:20250329T010000
DTSTAMP:20260423T112044
CREATED:20230222T205550Z
LAST-MODIFIED:20250317T025734Z
UID:10127-1743195600-1743210000@buffalosalsadance.com
SUMMARY:Muevete Fridays
DESCRIPTION:Music by DJ Sonero\nSalsa lesson by Armando Martinez\nTheme: Spring Bash\nDress code: Spring colors\, dress to impress\nkitchen  & bar open\nPucho Olivencia center 261 Swan St. Buffalo
URL:https://buffalosalsadance.com/event/muevete-fridays-black-white-edition/
LOCATION:Pucho Olivencia Center\, 261 Swan St.\, Buffalo\, NY\, 14209\, United States
END:VEVENT
BEGIN:VEVENT
DTSTART;TZID=UTC:20250212T190000
DTEND;TZID=UTC:20250212T220000
DTSTAMP:20260423T112044
CREATED:20230616T173910Z
LAST-MODIFIED:20250208T154817Z
UID:10292-1739386800-1739397600@buffalosalsadance.com
SUMMARY:Salsa Night Valentine's Day Edition
DESCRIPTION:Let’s celebrate Love & Friendship!! \nCome by yourself to meet new people\, bring your friends\, \nyour bestie\, or your sweetheart. \nBring a sweet snack to share\, wear red\, pink or black. \nMusic by DJ MIC_O \nThere will be a Photobooth \nLocation: Pucho Olivencia center \n261 swan st. Buffalo\, NY
URL:https://buffalosalsadance.com/event/salsa-night-2/
END:VEVENT
BEGIN:VEVENT
DTSTART;TZID=UTC:20231220T190000
DTEND;TZID=UTC:20231220T220000
DTSTAMP:20260423T112044
CREATED:20231126T170634Z
LAST-MODIFIED:20231218T050055Z
UID:10576-1703098800-1703109600@buffalosalsadance.com
SUMMARY:Salsa Night Christmas Edition
DESCRIPTION:FELIZ NAVIDAD!! \nJoin us for the last Salsa night of the year \nKIZOMBA lesson by Eugene Tin Man and Breeze \n$10  admission \nbring a snack to share \nwear your holiday attire\, dress to impress
URL:https://buffalosalsadance.com/event/salsa-night-christmas-edition/
END:VEVENT
BEGIN:VEVENT
DTSTART;TZID=UTC:20231208T200000
DTEND;TZID=UTC:20231209T010000
DTSTAMP:20260423T112044
CREATED:20230809T202040Z
LAST-MODIFIED:20231127T235208Z
UID:10389-1702065600-1702083600@buffalosalsadance.com
SUMMARY:Salsa Night @ Andale Cantina
DESCRIPTION:Lesson and social dancing \ndance the night away \nCover charge after 10pm \nMusic by DJ Carlos Newman \n 
URL:https://buffalosalsadance.com/event/salsa-night-andale-cantina/
END:VEVENT
BEGIN:VEVENT
DTSTART;TZID=UTC:20231115T190000
DTEND;TZID=UTC:20231115T220000
DTSTAMP:20260423T112044
CREATED:20231010T150910Z
LAST-MODIFIED:20231115T231212Z
UID:10500-1700074800-1700085600@buffalosalsadance.com
SUMMARY:SALSA NIGHT CANCELED
DESCRIPTION:CANCELED TONIGHT SEE YOU NEXT WEEK \nLesson  & social dancing \n$8 admission fee \nmusic by  Guest DJ Tico
URL:https://buffalosalsadance.com/event/salsa-night-halloween-edition/
END:VEVENT
BEGIN:VEVENT
DTSTART;TZID=UTC:20230915T190000
DTEND;TZID=UTC:20230916T000000
DTSTAMP:20260423T112044
CREATED:20230829T233306Z
LAST-MODIFIED:20230913T212802Z
UID:10420-1694804400-1694822400@buffalosalsadance.com
SUMMARY:Salsa for a cure
DESCRIPTION:To purchase  tickets  online go to: \nhttps://www.eventbrite.com/e/salsa-for-a-cure-tickets-663711327447?aff=efbeventtix&fbclid=IwAR1x2oskqAw5P9t62Pr3EA5nhq5eJ4PSnVJ1XxChS5Xn2S8T-G8Bpt8ePDw
URL:https://buffalosalsadance.com/event/salsa-for-a-cure/
END:VEVENT
BEGIN:VEVENT
DTSTART;TZID=UTC:20230908T180000
DTEND;TZID=UTC:20230908T220000
DTSTAMP:20260423T112044
CREATED:20230829T232942Z
LAST-MODIFIED:20230829T233256Z
UID:10417-1694196000-1694210400@buffalosalsadance.com
SUMMARY:Bisons Game
DESCRIPTION:HISPANIC HERITAGE MON TH CELEBRATION
URL:https://buffalosalsadance.com/event/bisons-game/
END:VEVENT
BEGIN:VEVENT
DTSTART;TZID=UTC:20230208T080000
DTEND;TZID=UTC:20230216T170000
DTSTAMP:20260423T112044
CREATED:20230208T191135Z
LAST-MODIFIED:20230406T150241Z
UID:10086-1675843200-1676566800@buffalosalsadance.com
SUMMARY:GIVEAWAY on Instagram!
DESCRIPTION:We are doing a GIVEAWAY on instagram! \nGIVEAWAY TIME! \n\nLet’s do something fun. \n\nStand a chance to win over $144/- worth of LATIN DANCE CLASSES\n\nHow to Enter:\n\n1.Follow @fannydancer on Instagram\n2.Like & Save the post\n3.Tag 5 friends in the comments\n4.Share the post on your story~tag @fannydancer\n\n\nDetails and rules:\n⁃GIVEAWAY is open to anyone\n⁃Last Entry: Thursday April 22nd 2023 at 11:59 pm\n⁃2 Winners will be selected April 23rd\n⁃One comment = One Entry (more comments = more entries)\n⁃Each entry must be “unique” (can’t tag the same people)
URL:https://buffalosalsadance.com/event/giveaway-on-instagram/
LOCATION:Pucho Olivencia Center\, 261 Swan St.\, Buffalo\, NY\, 14209\, United States
ATTACH;FMTTYPE=image/jpeg:https://buffalosalsadance.com/wp-content/uploads/2023/02/IMG_1190-1.jpg
END:VEVENT
BEGIN:VEVENT
DTSTART;VALUE=DATE:20230204
DTEND;VALUE=DATE:20230205
DTSTAMP:20260423T112044
CREATED:20230125T134040Z
LAST-MODIFIED:20230125T134040Z
UID:10075-1675468800-1675555199@buffalosalsadance.com
SUMMARY:LADIES STYLING WORKSHOPS + SOCIAL
DESCRIPTION:Hello Guys\, \n  \nFanny has partnered up with Salsero And Elyse from rochester to bring you guys a day workshops to learn how to elegantly style. \nAt 3pm-Ladies Salsa Styling \nAt 4pm-Ladies Bachata Styling \nAt 5pm- Kizomba with Elyse \n6PM-10PM- Social! \nTICKETS SOLD ONLINE AT : \nWWW.SALSEROROC.COM/EVENTS
URL:https://buffalosalsadance.com/event/ladies-styling-workshops-social/
ATTACH;FMTTYPE=image/jpeg:https://buffalosalsadance.com/wp-content/uploads/2023/01/325659372_1102041597159474_985188413704114861_n.jpg
END:VEVENT
BEGIN:VEVENT
DTSTART;TZID=UTC:20230119T190000
DTEND;TZID=UTC:20230119T230000
DTSTAMP:20260423T112044
CREATED:20230112T193541Z
LAST-MODIFIED:20230112T193707Z
UID:10055-1674154800-1674169200@buffalosalsadance.com
SUMMARY:Rainbow Rink Presents: Latin Night FT. DJ Pabony & Fanny Salsa Dance
DESCRIPTION:Dance Lesson By Fanny 7:30pm- 8:30pm\nFamily Friendly\nAlcohol Specials All Night\n$15 Entry Fee\n7:00pm-11:00pm
URL:https://buffalosalsadance.com/event/rainbow-rink-presents-latin-night-ft-dj-pabony-fanny-salsa-dance/
LOCATION:Rainbow Rink\, 101 Oliver St\, North Tonawanda\, NY\, 14120\, United States
ATTACH;FMTTYPE=image/jpeg:https://buffalosalsadance.com/wp-content/uploads/2023/01/644F684C-9666-402D-95DA-5D068A80DE7E.jpg
END:VEVENT
BEGIN:VEVENT
DTSTART;TZID=UTC:20221231T200000
DTEND;TZID=UTC:20230101T010000
DTSTAMP:20260423T112044
CREATED:20221222T105250Z
LAST-MODIFIED:20221223T080725Z
UID:9459-1672516800-1672534800@buffalosalsadance.com
SUMMARY:New Year's Eve
DESCRIPTION:SOL BY SOMBRA LIVE BAND DJ-C PERFECT \nPay-Online on EventBrite: https://www.eventbrite.com/e/new-years-eve-latin-party-2023-tickets-487399514067
URL:https://buffalosalsadance.com/event/new-years-eve/
ATTACH;FMTTYPE=image/jpeg:https://buffalosalsadance.com/wp-content/uploads/2022/12/Fanny-Salsa-Presents-1.jpg
END:VEVENT
END:VCALENDAR